BEGIN:VCALENDAR
VERSION:2.0
PRODID:-//Josh Nichol - ECPv6.15.17.1//NONSGML v1.0//EN
CALSCALE:GREGORIAN
METHOD:PUBLISH
X-WR-CALNAME:Josh Nichol
X-ORIGINAL-URL:https://joshnichol.com
X-WR-CALDESC:Events for Josh Nichol
REFRESH-INTERVAL;VALUE=DURATION:PT1H
X-Robots-Tag:noindex
X-PUBLISHED-TTL:PT1H
BEGIN:VTIMEZONE
TZID:America/Edmonton
BEGIN:DAYLIGHT
TZOFFSETFROM:-0700
TZOFFSETTO:-0600
TZNAME:MDT
DTSTART:20200308T090000
END:DAYLIGHT
BEGIN:STANDARD
TZOFFSETFROM:-0600
TZOFFSETTO:-0700
TZNAME:MST
DTSTART:20201101T080000
END:STANDARD
BEGIN:DAYLIGHT
TZOFFSETFROM:-0700
TZOFFSETTO:-0600
TZNAME:MDT
DTSTART:20210314T090000
END:DAYLIGHT
BEGIN:STANDARD
TZOFFSETFROM:-0600
TZOFFSETTO:-0700
TZNAME:MST
DTSTART:20211107T080000
END:STANDARD
BEGIN:DAYLIGHT
TZOFFSETFROM:-0700
TZOFFSETTO:-0600
TZNAME:MDT
DTSTART:20220313T090000
END:DAYLIGHT
BEGIN:STANDARD
TZOFFSETFROM:-0600
TZOFFSETTO:-0700
TZNAME:MST
DTSTART:20221106T080000
END:STANDARD
BEGIN:DAYLIGHT
TZOFFSETFROM:-0700
TZOFFSETTO:-0600
TZNAME:MDT
DTSTART:20230312T090000
END:DAYLIGHT
BEGIN:STANDARD
TZOFFSETFROM:-0600
TZOFFSETTO:-0700
TZNAME:MST
DTSTART:20231105T080000
END:STANDARD
BEGIN:DAYLIGHT
TZOFFSETFROM:-0700
TZOFFSETTO:-0600
TZNAME:MDT
DTSTART:20240310T090000
END:DAYLIGHT
BEGIN:STANDARD
TZOFFSETFROM:-0600
TZOFFSETTO:-0700
TZNAME:MST
DTSTART:20241103T080000
END:STANDARD
END:VTIMEZONE
BEGIN:VEVENT
DTSTART;TZID=America/Edmonton:20231002T090000
DTEND;TZID=America/Edmonton:20231005T170000
DTSTAMP:20260420T133150
CREATED:20221130T130508Z
LAST-MODIFIED:20221202T005424Z
UID:10000097-1696237200-1696525200@joshnichol.com
SUMMARY:Meanook AB - Relational Horsemanship Clinic
DESCRIPTION:The format for Relational Horsemanship Clinics with Josh vary depending on the host location and number of participants. In the 7 Person Individual format\, each rider gets one hour of individual instruction with Josh per day. Riders are encouraged to watch the rest of the lessons in order to soak up more of the training principles as they are applied to different horses. In the 9 Person Group format\, every rider receives an individual assessment lesson on the first day of the clinic. At the end of day one\, Josh intentionally divides the 9 participants into three groups and each group gets two lessons per day (one hour in the morning and one hour in the afternoon). The 9 Person Group format is great for riders who are a bit more familiar with Josh’s work and benefit from having more time in the arena to try things out with Josh’s support. Most of Josh’s clinics are 7 Person Individual format clinics; however\, in order to find out which format is being offered at a specific location\, simply contact the clinic host. \nContact the clinic host Cathy Nichol at cathy.m.nichol@gmail.com to book your spot.
URL:https://joshnichol.com/event/meanook-ab-relational-horsemanship-clinic-16/
LOCATION:Meanook\, AB\, Canada\, Eagles Wing Ranch\, Meanook\, AB\, Canada
CATEGORIES:Horsemanship Clinic
ORGANIZER;CN="Cathy Nichol":MAILTO:cathy.m.nichol@gmail.com
GEO:54.5779176;-113.3247285
X-APPLE-STRUCTURED-LOCATION;VALUE=URI;X-ADDRESS=Meanook AB Canada Eagles Wing Ranch Meanook AB Canada;X-APPLE-RADIUS=500;X-TITLE=Eagles Wing Ranch:geo:-113.3247285,54.5779176
END:VEVENT
BEGIN:VEVENT
DTSTART;TZID=America/Edmonton:20230925T090000
DTEND;TZID=America/Edmonton:20230928T170000
DTSTAMP:20260420T133150
CREATED:20221130T130425Z
LAST-MODIFIED:20221202T005453Z
UID:10000096-1695632400-1695920400@joshnichol.com
SUMMARY:Meanook AB - Relational Horsemanship Clinic
DESCRIPTION:The format for Relational Horsemanship Clinics with Josh vary depending on the host location and number of participants. In the 7 Person Individual format\, each rider gets one hour of individual instruction with Josh per day. Riders are encouraged to watch the rest of the lessons in order to soak up more of the training principles as they are applied to different horses. In the 9 Person Group format\, every rider receives an individual assessment lesson on the first day of the clinic. At the end of day one\, Josh intentionally divides the 9 participants into three groups and each group gets two lessons per day (one hour in the morning and one hour in the afternoon). The 9 Person Group format is great for riders who are a bit more familiar with Josh’s work and benefit from having more time in the arena to try things out with Josh’s support. Most of Josh’s clinics are 7 Person Individual format clinics; however\, in order to find out which format is being offered at a specific location\, simply contact the clinic host. \nContact the clinic host Cathy Nichol at cathy.m.nichol@gmail.com to book your spot.
URL:https://joshnichol.com/event/meanook-ab-relational-horsemanship-clinic-15/
LOCATION:Meanook\, AB\, Canada\, Eagles Wing Ranch\, Meanook\, AB\, Canada
CATEGORIES:Horsemanship Clinic
ORGANIZER;CN="Cathy Nichol":MAILTO:cathy.m.nichol@gmail.com
GEO:54.5779176;-113.3247285
X-APPLE-STRUCTURED-LOCATION;VALUE=URI;X-ADDRESS=Meanook AB Canada Eagles Wing Ranch Meanook AB Canada;X-APPLE-RADIUS=500;X-TITLE=Eagles Wing Ranch:geo:-113.3247285,54.5779176
END:VEVENT
BEGIN:VEVENT
DTSTART;TZID=America/Edmonton:20230814T090000
DTEND;TZID=America/Edmonton:20230817T170000
DTSTAMP:20260420T133150
CREATED:20221130T130347Z
LAST-MODIFIED:20221223T033541Z
UID:10000095-1692003600-1692291600@joshnichol.com
SUMMARY:Meanook AB - Relational Horsemanship Clinic
DESCRIPTION:WAITLIST ONLY\nTo be placed on the waiting list\, please contact the clinic host (Organizer) Cathy Nichol at cathy.m.nichol@gmail.com.\nThe format for Relational Horsemanship Clinics with Josh vary depending on the host location and number of participants. In the 7 Person Individual format\, each rider gets one hour of individual instruction with Josh per day. Riders are encouraged to watch the rest of the lessons in order to soak up more of the training principles as they are applied to different horses. In the 9 Person Group format\, every rider receives an individual assessment lesson on the first day of the clinic. At the end of day one\, Josh intentionally divides the 9 participants into three groups and each group gets two lessons per day (one hour in the morning and one hour in the afternoon). The 9 Person Group format is great for riders who are a bit more familiar with Josh’s work and benefit from having more time in the arena to try things out with Josh’s support. Most of Josh’s clinics are 7 Person Individual format clinics; however\, in order to find out which format is being offered at a specific location\, simply contact the clinic host. \nContact the clinic host Cathy Nichol at cathy.m.nichol@gmail.com to book your spot.
URL:https://joshnichol.com/event/meanook-ab-relational-horsemanship-clinic-14/
LOCATION:Meanook\, AB\, Canada\, Eagles Wing Ranch\, Meanook\, AB\, Canada
CATEGORIES:Horsemanship Clinic
ORGANIZER;CN="Cathy Nichol":MAILTO:cathy.m.nichol@gmail.com
GEO:54.5779176;-113.3247285
X-APPLE-STRUCTURED-LOCATION;VALUE=URI;X-ADDRESS=Meanook AB Canada Eagles Wing Ranch Meanook AB Canada;X-APPLE-RADIUS=500;X-TITLE=Eagles Wing Ranch:geo:-113.3247285,54.5779176
END:VEVENT
BEGIN:VEVENT
DTSTART;TZID=America/Edmonton:20230718T090000
DTEND;TZID=America/Edmonton:20230721T170000
DTSTAMP:20260420T133150
CREATED:20221130T130144Z
LAST-MODIFIED:20221223T033001Z
UID:10000094-1689670800-1689958800@joshnichol.com
SUMMARY:Meanook\, AB - Cattle Clinic
DESCRIPTION:WAITLIST ONLY\nTo be placed on the waiting list\, please contact the clinic host (Organizer) Cathy Nichol at cathy.m.nichol@gmail.com.\nJosh has spent much time working on ranches and learning from many handy horsemen. Here Josh will share his thoughts on handling cattle and allow participants the opportunity to try their hand at it themselves. Time is spent in the arena without cattle\, in the arena with cattle\, and also out moving groups anywhere between 200 – 800 head. Here the skills you learn in the arena are tested and put into a clear perspective for the horses. \nContact the clinic host at cathy.m.nichol@gmail.com to book your spot.
URL:https://joshnichol.com/event/meanook-ab-cattle-clinic-6/
LOCATION:Meanook\, AB\, Canada\, Eagles Wing Ranch\, Meanook\, AB\, Canada
CATEGORIES:Cattle Clinic
ORGANIZER;CN="Cathy Nichol":MAILTO:cathy.m.nichol@gmail.com
GEO:54.5779176;-113.3247285
X-APPLE-STRUCTURED-LOCATION;VALUE=URI;X-ADDRESS=Meanook AB Canada Eagles Wing Ranch Meanook AB Canada;X-APPLE-RADIUS=500;X-TITLE=Eagles Wing Ranch:geo:-113.3247285,54.5779176
END:VEVENT
BEGIN:VEVENT
DTSTART;TZID=America/Edmonton:20230704T090000
DTEND;TZID=America/Edmonton:20230707T170000
DTSTAMP:20260420T133150
CREATED:20221130T130105Z
LAST-MODIFIED:20221223T032608Z
UID:10000093-1688461200-1688749200@joshnichol.com
SUMMARY:Meanook\, AB - Cattle Clinic
DESCRIPTION:WAITLIST ONLY\nTo be placed on the waiting list\, please contact the clinic host (Organizer) Cathy Nichol at cathy.m.nichol@gmail.com.\nJosh has spent much time working on ranches and learning from many handy horsemen. Here Josh will share his thoughts on handling cattle and allow participants the opportunity to try their hand at it themselves. Time is spent in the arena without cattle\, in the arena with cattle\, and also out moving groups anywhere between 200 – 800 head. Here the skills you learn in the arena are tested and put into a clear perspective for the horses. \nContact the clinic host at cathy.m.nichol@gmail.com to book your spot.
URL:https://joshnichol.com/event/meanook-ab-cattle-clinic-5/
LOCATION:Meanook\, AB\, Canada\, Eagles Wing Ranch\, Meanook\, AB\, Canada
CATEGORIES:Cattle Clinic
ORGANIZER;CN="Cathy Nichol":MAILTO:cathy.m.nichol@gmail.com
GEO:54.5779176;-113.3247285
X-APPLE-STRUCTURED-LOCATION;VALUE=URI;X-ADDRESS=Meanook AB Canada Eagles Wing Ranch Meanook AB Canada;X-APPLE-RADIUS=500;X-TITLE=Eagles Wing Ranch:geo:-113.3247285,54.5779176
END:VEVENT
BEGIN:VEVENT
DTSTART;TZID=America/Edmonton:20230606T090000
DTEND;TZID=America/Edmonton:20230609T170000
DTSTAMP:20260420T133150
CREATED:20221130T125641Z
LAST-MODIFIED:20221223T032251Z
UID:10000090-1686042000-1686330000@joshnichol.com
SUMMARY:Meanook AB - Relational Horsemanship Clinic
DESCRIPTION:WAITLIST ONLY\nTo be placed on the waiting list\, please contact the clinic host (Organizer) Cathy Nichol at cathy.m.nichol@gmail.com.\nThe format for Relational Horsemanship Clinics with Josh vary depending on the host location and number of participants. In the 7 Person Individual format\, each rider gets one hour of individual instruction with Josh per day. Riders are encouraged to watch the rest of the lessons in order to soak up more of the training principles as they are applied to different horses. In the 9 Person Group format\, every rider receives an individual assessment lesson on the first day of the clinic. At the end of day one\, Josh intentionally divides the 9 participants into three groups and each group gets two lessons per day (one hour in the morning and one hour in the afternoon). The 9 Person Group format is great for riders who are a bit more familiar with Josh’s work and benefit from having more time in the arena to try things out with Josh’s support. Most of Josh’s clinics are 7 Person Individual format clinics; however\, in order to find out which format is being offered at a specific location\, simply contact the clinic host. \nContact the clinic host Cathy Nichol at cathy.m.nichol@gmail.com to book your spot.
URL:https://joshnichol.com/event/meanook-ab-relational-horsemanship-clinic-13/
LOCATION:Meanook\, AB\, Canada\, Eagles Wing Ranch\, Meanook\, AB\, Canada
CATEGORIES:Horsemanship Clinic
ORGANIZER;CN="Cathy Nichol":MAILTO:cathy.m.nichol@gmail.com
GEO:54.5779176;-113.3247285
X-APPLE-STRUCTURED-LOCATION;VALUE=URI;X-ADDRESS=Meanook AB Canada Eagles Wing Ranch Meanook AB Canada;X-APPLE-RADIUS=500;X-TITLE=Eagles Wing Ranch:geo:-113.3247285,54.5779176
END:VEVENT
BEGIN:VEVENT
DTSTART;TZID=America/Edmonton:20230501T090000
DTEND;TZID=America/Edmonton:20230504T170000
DTSTAMP:20260420T133150
CREATED:20221130T124840Z
LAST-MODIFIED:20221202T010202Z
UID:10000086-1682931600-1683219600@joshnichol.com
SUMMARY:Meanook AB - Relational Horsemanship Clinic
DESCRIPTION:The format for Relational Horsemanship Clinics with Josh vary depending on the host location and number of participants. In the 7 Person Individual format\, each rider gets one hour of individual instruction with Josh per day. Riders are encouraged to watch the rest of the lessons in order to soak up more of the training principles as they are applied to different horses. In the 9 Person Group format\, every rider receives an individual assessment lesson on the first day of the clinic. At the end of day one\, Josh intentionally divides the 9 participants into three groups and each group gets two lessons per day (one hour in the morning and one hour in the afternoon). The 9 Person Group format is great for riders who are a bit more familiar with Josh’s work and benefit from having more time in the arena to try things out with Josh’s support. Most of Josh’s clinics are 7 Person Individual format clinics; however\, in order to find out which format is being offered at a specific location\, simply contact the clinic host. \nContact the clinic host Cathy Nichol at cathy.m.nichol@gmail.com to book your spot.
URL:https://joshnichol.com/event/meanook-ab-relational-horsemanship-clinic-11/
LOCATION:Meanook\, AB\, Canada\, Eagles Wing Ranch\, Meanook\, AB\, Canada
CATEGORIES:Horsemanship Clinic
ORGANIZER;CN="Cathy Nichol":MAILTO:cathy.m.nichol@gmail.com
GEO:54.5779176;-113.3247285
X-APPLE-STRUCTURED-LOCATION;VALUE=URI;X-ADDRESS=Meanook AB Canada Eagles Wing Ranch Meanook AB Canada;X-APPLE-RADIUS=500;X-TITLE=Eagles Wing Ranch:geo:-113.3247285,54.5779176
END:VEVENT
BEGIN:VEVENT
DTSTART;TZID=America/Edmonton:20210504T090000
DTEND;TZID=America/Edmonton:20210507T170000
DTSTAMP:20260420T133150
CREATED:20201121T170010Z
LAST-MODIFIED:20201227T034810Z
UID:10000028-1620118800-1620406800@joshnichol.com
SUMMARY:Meanook\, AB - Relational Horsemanship Clinic
DESCRIPTION:Individual sessions for up to eight students.  Whether you are just starting out with Josh or working at an advanced level\, this clinic is open to all riders and optimizes the learning experience for you and your horse.  With an hour of one-on-one instruction each day\, Josh is able to customize a training progression that is best suited for meeting your horse’s needs; in addition to your lesson time\, you are welcome to observe all other student lessons and practice your horse homework from Josh before your lesson the next day.  The learning in these clinics will develop your understanding of key Relational Horsemanship principles and help get you and your horse onto the best possible track. \nNot seeing any clinics that fit your schedule? Check out Josh’s Level 2 program\, where you can learn from him year-round\, ask him clinic related questions or anything horsemanship\, and interact with your fellow students in the membership forum.  \nGo HERE to learn more!
URL:https://joshnichol.com/event/meanook-ab-relational-horsemanship-clinic/
CATEGORIES:Horsemanship Clinic
ORGANIZER;CN="Cathy Nichol":MAILTO:cathy.m.nichol@gmail.com
END:VEVENT
END:VCALENDAR