BEGIN:VCALENDAR
VERSION:2.0
PRODID:-//Josh Nichol - ECPv6.15.17.1//NONSGML v1.0//EN
CALSCALE:GREGORIAN
METHOD:PUBLISH
X-ORIGINAL-URL:https://joshnichol.com
X-WR-CALDESC:Events for Josh Nichol
REFRESH-INTERVAL;VALUE=DURATION:PT1H
X-Robots-Tag:noindex
X-PUBLISHED-TTL:PT1H
BEGIN:VTIMEZONE
TZID:America/Edmonton
BEGIN:DAYLIGHT
TZOFFSETFROM:-0700
TZOFFSETTO:-0600
TZNAME:MDT
DTSTART:20250309T090000
END:DAYLIGHT
BEGIN:STANDARD
TZOFFSETFROM:-0600
TZOFFSETTO:-0700
TZNAME:MST
DTSTART:20251102T080000
END:STANDARD
BEGIN:DAYLIGHT
TZOFFSETFROM:-0700
TZOFFSETTO:-0600
TZNAME:MDT
DTSTART:20260308T090000
END:DAYLIGHT
BEGIN:STANDARD
TZOFFSETFROM:-0600
TZOFFSETTO:-0700
TZNAME:MST
DTSTART:20261101T080000
END:STANDARD
BEGIN:DAYLIGHT
TZOFFSETFROM:-0700
TZOFFSETTO:-0600
TZNAME:MDT
DTSTART:20270314T090000
END:DAYLIGHT
BEGIN:STANDARD
TZOFFSETFROM:-0600
TZOFFSETTO:-0700
TZNAME:MST
DTSTART:20271107T080000
END:STANDARD
END:VTIMEZONE
BEGIN:VEVENT
DTSTART;TZID=America/Edmonton:20260706T080000
DTEND;TZID=America/Edmonton:20260709T170000
DTSTAMP:20260419T123252
CREATED:20260119T130037Z
LAST-MODIFIED:20260116T143129Z
UID:10000186-1783324800-1783616400@joshnichol.com
SUMMARY:Meanook\, AB - Cattle Clinic
DESCRIPTION:During your clinic\, you will have an opportunity to experience all areas of cattle handling. Be prepared to ride all day as you will be instructed by Josh. \nThe clinic includes: \n\nDry work\nFlag work\nHot heels\nIntroductory roping\nIndividual cattle instruction\nGroup cattle instruction\n\nOn your final day\, you will be provided with lunch as you head out to gather and move cattle. You will also have the opportunity to join us at a branding over the weekend following your clinic\, to see Josh and his crew in action! \n 
URL:https://joshnichol.com/event/meanook-ab-cattle-clinic-copy/
LOCATION:Meanook\, AB\, Canada\, Eagles Wing Ranch\, Meanook\, AB\, Canada
CATEGORIES:Cattle Clinic
ORGANIZER;CN="Cathy Nichol":MAILTO:cathy.m.nichol@gmail.com
GEO:54.5779176;-113.3247285
X-APPLE-STRUCTURED-LOCATION;VALUE=URI;X-ADDRESS=Meanook AB Canada Eagles Wing Ranch Meanook AB Canada;X-APPLE-RADIUS=500;X-TITLE=Eagles Wing Ranch:geo:-113.3247285,54.5779176
END:VEVENT
BEGIN:VEVENT
DTSTART;TZID=America/Edmonton:20260720T080000
DTEND;TZID=America/Edmonton:20260723T170000
DTSTAMP:20260419T123252
CREATED:20260119T130034Z
LAST-MODIFIED:20260116T143156Z
UID:10000185-1784534400-1784826000@joshnichol.com
SUMMARY:Meanook\, AB - Cattle Clinic
DESCRIPTION:During your clinic\, you will have an opportunity to experience all areas of cattle handling. Be prepared to ride all day as you will be instructed by Josh. \nThe clinic includes: \n\nDry work\nFlag work\nHot heels\nIntroductory roping\nIndividual cattle instruction\nGroup cattle instruction\n\nOn your final day\, you will be provided with lunch as you head out to gather and move cattle. You will also have the opportunity to join us at a branding over the weekend following your clinic\, to see Josh and his crew in action! \n 
URL:https://joshnichol.com/event/meanook-ab-cattle-clinic-13/
LOCATION:Meanook\, AB\, Canada\, Eagles Wing Ranch\, Meanook\, AB\, Canada
CATEGORIES:Cattle Clinic
ORGANIZER;CN="Cathy Nichol":MAILTO:cathy.m.nichol@gmail.com
GEO:54.5779176;-113.3247285
X-APPLE-STRUCTURED-LOCATION;VALUE=URI;X-ADDRESS=Meanook AB Canada Eagles Wing Ranch Meanook AB Canada;X-APPLE-RADIUS=500;X-TITLE=Eagles Wing Ranch:geo:-113.3247285,54.5779176
END:VEVENT
END:VCALENDAR